Workbook

Sheet Sheet1
A1: 鄂尔多斯市天安公共交通集团2024年以旧换新车辆明细表
A2: 新购车辆信息 | K2: 对应报废车辆信息
A3: 序号 | B3: 品牌型号 | C3: 牌照号(蒙K) | D3: 使用性质 | E3: 发动机编码 | F3: 车架号 | G3: 注册日期 | H3: 核载人数 | I3: 长、宽、高（mm) | J3: 登记证编号 | K3: 注销车牌号 | L3: 使用性质 | M3: 发动机编码 | N3: 车架号 | O3: 购进、注册时间
A4: 1 | B4: 金龙牌XMQ6115CGBEVL03 | C4: 蒙K06193D | D4: 公交客运 | E4: M12030124090071 | F4: LA9LC30F4RBLA6649 | G4: 2024.11.15 | H4: 44 | I4: 10990×2550×3490 | J4: 150010760690 | K4: 蒙K87389 | L4: =VLOOKUP(K4,[1]汇总!$G:$H,2) -> 公交客运 | M4: =VLOOKUP(K4,[2]Sheet1!$D:$G,4,FALSE) -> G66YAD00050 | N4: =VLOOKUP(K4,[2]Sheet1!$D:$H,5,FALSE) -> LZYTBTDF0D1014623 | O4: =VLOOKUP(K4,[2]Sheet1!$D:$I,6,FALSE) -> 2013.5.30
A5: 2 | B5: 金龙牌XMQ6115CGBEVL03 | C5: 蒙K06827D | D5: 公交客运 | E5: M12030124090065 | F5: LA9LC30F0RBLA6650 | G5: 2024.11.15 | H5: 44 | I5: 10990×2550×3490 | J5: 150010760691 | K5: 蒙K87393 | L5: =VLOOKUP(K5,[1]汇总!$G:$H,2) -> 公交客运 | M5: =VLOOKUP(K5,[2]Sheet1!$D:$G,4,FALSE) -> G66YAD00036 | N5: =VLOOKUP(K5,[2]Sheet1!$D:$H,5,FALSE) -> LZYTBTDF8D1014630 | O5: =VLOOKUP(K5,[2]Sheet1!$D:$I,6,FALSE) -> 2013.5.30
A6: 3 | B6: 金龙牌XMQ6115CGBEVL03 | C6: 蒙K06892D | D6: 公交客运 | E6: M12030124090054 | F6: LA9LC30F2RBLA6651 | G6: 2024.11.15 | H6: 44 | I6: 10990×2550×3490 | J6: 150010760692 | K6: 蒙K87327 | L6: =VLOOKUP(K6,[1]汇总!$G:$H,2) -> 公交客运 | M6: =VLOOKUP(K6,[2]Sheet1!$D:$G,4,FALSE) -> G66YAD00046 | N6: =VLOOKUP(K6,[2]Sheet1!$D:$H,5,FALSE) -> LZYTBTDF6D1014626 | O6: =VLOOKUP(K6,[2]Sheet1!$D:$I,6,FALSE) -> 2013.5.30
A7: 4 | B7: 金龙牌XMQ6115CGBEVL03 | C7: 蒙K07307D | D7: 公交客运 | E7: M12030124090063 | F7: LA9LC30F4RBLA6652 | G7: 2024.11.15 | H7: 44 | I7: 10990×2550×3490 | J7: 150010760693 | K7: 蒙K87397 | L7: =VLOOKUP(K7,[1]汇总!$G:$H,2) -> 公交客运 | M7: =VLOOKUP(K7,[2]Sheet1!$D:$G,4,FALSE) -> G66YAD00043 | N7: =VLOOKUP(K7,[2]Sheet1!$D:$H,5,FALSE) -> LZYTBTDF9D1014619 | O7: =VLOOKUP(K7,[2]Sheet1!$D:$I,6,FALSE) -> 2013.5.30
A8: 5 | B8: 金龙牌XMQ6115CGBEVL03 | C8: 蒙K06151D | D8: 公交客运 | E8: M12030124090053 | F8: LA9LC30F6RBLA6653 | G8: 2024.11.15 | H8: 44 | I8: 10990×2550×3490 | J8: 150010760689 | K8: 蒙K87335 | L8: =VLOOKUP(K8,[1]汇总!$G:$H,2) -> 公交客运 | M8: =VLOOKUP(K8,[2]Sheet1!$D:$G,4,FALSE) -> G66YAD00054 | N8: =VLOOKUP(K8,[2]Sheet1!$D:$H,5,FALSE) -> LZYTBTDF4D1014625 | O8: =VLOOKUP(K8,[2]Sheet1!$D:$I,6,FALSE) -> 2013.5.30
A9: 6 | B9: 金龙牌XMQ6115CGBEVL03 | C9: 蒙K06301D | D9: 公交客运 | E9: M12030124090036 | F9: LA9LC30F8RBLA6654 | G9: 2024.11.15 | H9: 44 | I9: 10990×2550×3490 | J9: 150010760694 | K9: 蒙K91959 | L9: =VLOOKUP(K9,[1]汇总!$G:$H,2) -> 公交客运 | M9: =VLOOKUP(K9,[2]Sheet1!$D:$G,4,FALSE) -> G3RYAF00208 | N9: =VLOOKUP(K9,[2]Sheet1!$D:$H,5,FALSE) -> LZYTCTDF4F1033353 | O9: =VLOOKUP(K9,[2]Sheet1!$D:$I,6,FALSE) -> 2015.8.19
A10: 7 | B10: 金龙牌XMQ6115CGBEVL03 | C10: 蒙K07195D | D10: 公交客运 | E10: M12030124090033 | F10: LA9LC30FXRBLA6655 | G10: 2024.11.15 | H10: 44 | I10: 10990×2550×3490 | J10: 150010760696 | K10: 蒙K90163 | L10: =VLOOKUP(K10,[1]汇总!$G:$H,2) -> 公交客运 | M10: =VLOOKUP(K10,[2]Sheet1!$D:$G,4,FALSE) -> G3RYAE00221 | N10: =VLOOKUP(K10,[2]Sheet1!$D:$H,5,FALSE) -> LZYTCTDF1E1025595 | O10: =VLOOKUP(K10,[2]Sheet1!$D:$I,6,FALSE) -> 2014.9.5
A11: 8 | B11: 金龙牌XMQ6115CGBEVL03 | C11: 蒙K07331D | D11: 公交客运 | E11: M12030124090026 | F11: LA9LC30F1RBLA6656 | G11: 2024.11.15 | H11: 44 | I11: 10990×2550×3490 | J11: 150010735784 | K11: 蒙K90170 | L11: =VLOOKUP(K11,[1]汇总!$G:$H,2) -> 公交客运 | M11: =VLOOKUP(K11,[2]Sheet1!$D:$G,4,FALSE) -> G3RYAE00207 | N11: =VLOOKUP(K11,[2]Sheet1!$D:$H,5,FALSE) -> LZYTCTDF0E1025586 | O11: =VLOOKUP(K11,[2]Sheet1!$D:$I,6,FALSE) -> 2014.9.5
A12: 9 | B12: 金龙牌XMQ6115CGBEVL03 | C12: 蒙K06683D | D12: 公交客运 | E12: M12030124090060 | F12: LA9LC30F3RBLA6657 | G12: 2024.11.15 | H12: 44 | I12: 10990×2550×3490 | J12: 150010760695 | K12: 蒙K90180 | L12: =VLOOKUP(K12,[1]汇总!$G:$H,2) -> 公交客运 | M12: =VLOOKUP(K12,[2]Sheet1!$D:$G,4,FALSE) -> G3RYAE00213 | N12: =VLOOKUP(K12,[2]Sheet1!$D:$H,5,FALSE) -> LZYTCTDF5E1025597 | O12: =VLOOKUP(K12,[2]Sheet1!$D:$I,6,FALSE) -> 2014.9.5
A13: 10 | B13: 金龙牌XMQ6115CGBEVL03 | C13: 蒙K07435D | D13: 公交客运 | E13: M12030124090027 | F13: LA9LC30F5RBLA6658 | G13: 2024.11.15 | H13: 44 | I13: 10990×2550×3490 | J13: 150010735785 | K13: 蒙K90200 | L13: =VLOOKUP(K13,[1]汇总!$G:$H,2) -> 公交客运 | M13: =VLOOKUP(K13,[2]Sheet1!$D:$G,4,FALSE) -> G3RYAE00217 | N13: =VLOOKUP(K13,[2]Sheet1!$D:$H,5,FALSE) -> LZYTCTDF7E1025598 | O13: =VLOOKUP(K13,[2]Sheet1!$D:$I,6,FALSE) -> 2014.9.5
A14: 11 | B14: 宇通牌ZK6816BEVG24L | C14: 蒙K03102D | D14: 公交客运 | E14: MLY502131A | F14: LZYTDGDW2R1034672 | G14: 2024.11.19 | H14: 58/14 | I14: 8145×2420×3295 | J14: 150010760635 | K14: 蒙K82825 | L14: =VLOOKUP(K14,[1]汇总!$G:$H,2) -> 公交客运 | M14: =VLOOKUP(K14,[2]Sheet1!$D:$G,4,FALSE) -> G69DBB00031 | N14: =VLOOKUP(K14,[2]Sheet1!$D:$H,5,FALSE) -> LDD03D017C0000063 | O14: =VLOOKUP(K14,[2]Sheet1!$D:$I,6,FALSE) -> 2012.2.3
A15: 12 | B15: 宇通牌ZK6816BEVG24L | C15: 蒙K03530D | D15: 公交客运 | E15: MLY502203A | F15: LZYTDGDW6R1034674 | G15: 2024.11.19 | H15: 58/14 | I15: 8145×2420×3295 | J15: 150010760636 | K15: 蒙K82837 | L15: =VLOOKUP(K15,[1]汇总!$G:$H,2) -> 公交客运 | M15: =VLOOKUP(K15,[2]Sheet1!$D:$G,4,FALSE) -> G69DBB00026 | N15: =VLOOKUP(K15,[2]Sheet1!$D:$H,5,FALSE) -> LDD03D010C0000048 | O15: =VLOOKUP(K15,[2]Sheet1!$D:$I,6,FALSE) -> 2012.2.3
A16: 13 | B16: 宇通牌ZK6816BEVG24L | C16: 蒙K03056D | D16: 公交客运 | E16: MLY502202A | F16: LZYTDGDW8R1034675 | G16: 2024.11.19 | H16: 58/14 | I16: 8145×2420×3295 | J16: 150010760638 | K16: 蒙K82861 | L16: =VLOOKUP(K16,[1]汇总!$G:$H,2) -> 公交客运 | M16: =VLOOKUP(K16,[2]Sheet1!$D:$G,4,FALSE) -> G69DBB00033 | N16: =VLOOKUP(K16,[2]Sheet1!$D:$H,5,FALSE) -> LDD03D015C0000059 | O16: =VLOOKUP(K16,[2]Sheet1!$D:$I,6,FALSE) -> 2012.2.3
A17: 14 | B17: 宇通牌ZK6816BEVG24L | C17: 蒙K03275D | D17: 公交客运 | E17: MLY502644A | F17: LZYTDGDWXR1034676 | G17: 2024.11.19 | H17: 58/14 | I17: 8145×2420×3295 | J17: 150010760639 | K17: 蒙K82821 | L17: =VLOOKUP(K17,[1]汇总!$G:$H,2) -> 公交客运 | M17: =VLOOKUP(K17,[2]Sheet1!$D:$G,4,FALSE) -> G69DBB00035 | N17: =VLOOKUP(K17,[2]Sheet1!$D:$H,5,FALSE) -> LDD03D013C0000058 | O17: =VLOOKUP(K17,[2]Sheet1!$D:$I,6,FALSE) -> 2012.2.3
A18: 15 | B18: 宇通牌ZK6816BEVG24L | C18: 蒙K03572D | D18: 公交客运 | E18: MLY502130A | F18: LZYTDGDW1R1034677 | G18: 2024.11.19 | H18: 58/14 | I18: 8145×2420×3295 | J18: 150010760640 | K18: 蒙K82826 | L18: =VLOOKUP(K18,[1]汇总!$G:$H,2) -> 公交客运 | M18: =VLOOKUP(K18,[2]Sheet1!$D:$G,4,FALSE) -> G69DBB00028 | N18: =VLOOKUP(K18,[2]Sheet1!$D:$H,5,FALSE) -> LDD03D014C0000053 | O18: =VLOOKUP(K18,[2]Sheet1!$D:$I,6,FALSE) -> 2012.2.3
A19: 16 | B19: 宇通牌ZK6816BEVG24L | C19: 蒙K03427D | D19: 公交客运 | E19: MLY502325A | F19: LZYTDGDW3R1034678 | G19: 2024.11.19 | H19: 58/14 | I19: 8145×2420×3295 | J19: 150010760641 | K19: 蒙K82867 | L19: =VLOOKUP(K19,[1]汇总!$G:$H,2) -> 公交客运 | M19: =VLOOKUP(K19,[2]Sheet1!$D:$G,4,FALSE) -> G69DBB00025 | N19: =VLOOKUP(K19,[2]Sheet1!$D:$H,5,FALSE) -> LDD03D011C0000060 | O19: =VLOOKUP(K19,[2]Sheet1!$D:$I,6,FALSE) -> 2012.2.3
A20: 17 | B20: 宇通牌ZK6816BEVG24L | C20: 蒙K03295D | D20: 公交客运 | E20: MLY502342A | F20: LZYTDGDW5R1034679 | G20: 2024.11.19 | H20: 58/14 | I20: 8145×2420×3295 | J20: 150010760642 | K20: 蒙K82835 | L20: =VLOOKUP(K20,[1]汇总!$G:$H,2) -> 公交客运 | M20: =VLOOKUP(K20,[2]Sheet1!$D:$G,4,FALSE) -> G69DBB00024 | N20: =VLOOKUP(K20,[2]Sheet1!$D:$H,5,FALSE) -> LDD03D012C0000049 | O20: =VLOOKUP(K20,[2]Sheet1!$D:$I,6,FALSE) -> 2012.2.3
A21: 18 | B21: 宇通牌ZK6816BEVG24L | C21: 蒙K03702D | D21: 公交客运 | E21: MLY502389A | F21: LZYTDGDW1R1034680 | G21: 2024.11.19 | H21: 58/14 | I21: 8145×2420×3295 | J21: 150010760643 | K21: 蒙K82865 | L21: =VLOOKUP(K21,[1]汇总!$G:$H,2) -> 公交客运 | M21: =VLOOKUP(K21,[2]Sheet1!$D:$G,4,FALSE) -> G69DBB00027 | N21: =VLOOKUP(K21,[2]Sheet1!$D:$H,5,FALSE) -> LDD03D015C0000062 | O21: =VLOOKUP(K21,[2]Sheet1!$D:$I,6,FALSE) -> 2012.2.3
A22: 19 | B22: 宇通牌ZK6106BEVG4E | C22: 蒙K01253D | D22: 公交客运 | E22: MJB000519C | F22: LZYTBGCW1R1034671 | G22: 2024.11.21 | H22: 80/24 | I22: 10500×2550×3305 | J22: 150010760998 | K22: 蒙K82866 | L22: =VLOOKUP(K22,[1]汇总!$G:$H,2) -> 公交客运 | M22: =VLOOKUP(K22,[2]Sheet1!$D:$G,4,FALSE) -> G69DBB00021 | N22: =VLOOKUP(K22,[2]Sheet1!$D:$H,5,FALSE) -> LDD03D013C0000061 | O22: =VLOOKUP(K22,[2]Sheet1!$D:$I,6,FALSE) -> 2012.2.3
A23: 20 | B23: 宇通牌ZK6106BEVG4E | C23: 蒙K01749D | D23: 公交客运 | E23: MJB000404C | F23: LZYTBGCW6R1034682 | G23: 2024.11.21 | H23: 80/24 | I23: 10500×2550×3305 | J23: 150010828929 | K23: 蒙K82852 | L23: =VLOOKUP(K23,[1]汇总!$G:$H,2) -> 公交客运 | M23: =VLOOKUP(K23,[2]Sheet1!$D:$G,4,FALSE) -> G69DBB00020 | N23: =VLOOKUP(K23,[2]Sheet1!$D:$H,5,FALSE) -> LDD03D010C0000051 | O23: =VLOOKUP(K23,[2]Sheet1!$D:$I,6,FALSE) -> 2012.2.3
A24: 21 | B24: 宇通牌ZK6106BEVG4E | C24: 蒙K01738D | D24: 公交客运 | E24: MJB000445C | F24: LZYTBGCW8R1034683 | G24: 2024.11.21 | H24: 80/24 | I24: 10500×2550×3305 | J24: 150010761000 | K24: 蒙K82860 | L24: =VLOOKUP(K24,[1]汇总!$G:$H,2) -> 公交客运 | M24: =VLOOKUP(K24,[2]Sheet1!$D:$G,4,FALSE) -> G69DBB00030 | N24: =VLOOKUP(K24,[2]Sheet1!$D:$H,5,FALSE) -> LDD03D019C0000050 | O24: =VLOOKUP(K24,[2]Sheet1!$D:$I,6,FALSE) -> 2012.2.3
A25: 22 | B25: 宇通牌ZK6106BEVG4E | C25: 蒙K01823D | D25: 公交客运 | E25: MJB000521C | F25: LZYTBGCWXR1034684 | G25: 2024.11.21 | H25: 80/24 | I25: 10500×2550×3305 | J25: 150010760997 | K25: 蒙K82775 | L25: =VLOOKUP(K25,[1]汇总!$G:$H,2) -> 公交客运 | M25: =VLOOKUP(K25,[2]Sheet1!$D:$G,4,FALSE) -> G69DBB00023 | N25: =VLOOKUP(K25,[2]Sheet1!$D:$H,5,FALSE) -> LDD03D012C0000052 | O25: =VLOOKUP(K25,[2]Sheet1!$D:$I,6,FALSE) -> 2012.2.3
... A36: 33 | B36: 宇通牌ZK6106BEVG4E | C36: 蒙K01746D | D36: 公交客运 | E36: MJB000514C | F36: LZYTBGCW4R1034695 | G36: 2024.11.21 | H36: 80/24 | I36: 10500×2550×3305 | J36: 150010755359 | K36: 蒙K96012 | L36: =VLOOKUP(K36,[1]汇总!$G:$H,2) -> 公交客运 | M36: =VLOOKUP(K36,[2]Sheet1!$D:$G,4,FALSE) -> J3EMDG30098 | N36: =VLOOKUP(K36,[2]Sheet1!$D:$H,5,FALSE) -> LVCB4L4D9GG013390 | O36: =VLOOKUP(K36,[2]Sheet1!$D:$I,6,FALSE) -> 2016.11.14
A37: 34 | B37: 宇通牌ZK6827BEVG15M | C37: 蒙K08361D | D37: 公交客运 | E37: MLY502630A | F37: LZYTDGDW6R1034951 | G37: 2024.11.19 | H37: 34 | I37: 8245×2530×3475 | J37: 150010760644 | K37: 蒙K90189 | L37: =VLOOKUP(K37,[1]汇总!$G:$H,2) -> 公交客运 | M37: =VLOOKUP(K37,[2]Sheet1!$D:$G,4,FALSE) -> G3RYAE00208 | N37: =VLOOKUP(K37,[2]Sheet1!$D:$H,5,FALSE) -> LZYTCTDF6E1025589 | O37: =VLOOKUP(K37,[2]Sheet1!$D:$I,6,FALSE) -> 2014.9.5
A38: 35 | B38: 宇通牌ZK6827BEVG15M | C38: 蒙K09710D | D38: 公交客运 | E38: MLY502602A | F38: LZYTDGDW8R1034952 | G38: 2024.11.19 | H38: 34 | I38: 8245×2530×3475 | J38: 150010760648 | K38: 蒙K90120 | L38: =VLOOKUP(K38,[1]汇总!$G:$H,2) -> 公交客运 | M38: =VLOOKUP(K38,[2]Sheet1!$D:$G,4,FALSE) -> 1014G006587 | N38: =VLOOKUP(K38,[2]Sheet1!$D:$H,5,FALSE) -> LZYTCTDF3E1025534 | O38: =VLOOKUP(K38,[2]Sheet1!$D:$I,6,FALSE) -> 2014.9.5
A39: 36 | B39: 宇通牌ZK6827BEVG15M | C39: 蒙K08592D | D39: 公交客运 | E39: MLY502639A | F39: LZYTDGDWXR1034953 | G39: 2024.11.19 | H39: 34 | I39: 8245×2530×3475 | J39: 150010760649 | K39: 蒙K90136 | L39: =VLOOKUP(K39,[1]汇总!$G:$H,2) -> 公交客运 | M39: =VLOOKUP(K39,[2]Sheet1!$D:$G,4,FALSE) -> 1014G006577 | N39: =VLOOKUP(K39,[2]Sheet1!$D:$H,5,FALSE) -> LZYTCTDF2E1025542 | O39: =VLOOKUP(K39,[2]Sheet1!$D:$I,6,FALSE) -> 2014.9.5
A40: 37 | B40: 宇通牌ZK6827BEVG15M | C40: 蒙K08176D | D40: 公交客运 | E40: MLY502628A | F40: LZYTDGDW1R1034954 | G40: 2024.11.19 | H40: 34 | I40: 8245×2530×3475 | J40: 150010760951 | K40: 蒙K87367 | L40: =VLOOKUP(K40,[1]汇总!$G:$H,2) -> 公交客运 | M40: =VLOOKUP(K40,[2]Sheet1!$D:$G,4,FALSE) -> G66YAD00061 | N40: =VLOOKUP(K40,[2]Sheet1!$D:$H,5,FALSE) -> LZYTBTDF7D1014621 | O40: =VLOOKUP(K40,[2]Sheet1!$D:$I,6,FALSE) -> 2013.5.30
A41: 38 | B41: 宇通牌ZK6827BEVG15M | C41: 蒙K06952D | D41: 公交客运 | E41: MLY502665A | F41: LZYTDGDW3R1034955 | G41: 2024.11.19 | H41: 34 | I41: 8245×2530×3475 | J41: 150010760952 | K41: 蒙K91851 | L41: =VLOOKUP(K41,[1]汇总!$G:$H,2) -> 公交客运 | M41: =VLOOKUP(K41,[2]Sheet1!$D:$G,4,FALSE) -> G3RYAF00216 | N41: =VLOOKUP(K41,[2]Sheet1!$D:$H,5,FALSE) -> LZYTCTDF1F1033357 | O41: =VLOOKUP(K41,[2]Sheet1!$D:$I,6,FALSE) -> 2015.8.19
A42: 39 | B42: 宇通牌ZK6827BEVG15M | C42: 蒙K05921D | D42: 公交客运 | E42: MLY502667A | F42: LZYTDGDW5R1034956 | G42: 2024.11.19 | H42: 34 | I42: 8245×2530×3475 | J42: 150010760646 | K42: 蒙K90171 | L42: =VLOOKUP(K42,[1]汇总!$G:$H,2) -> 公交客运 | M42: =VLOOKUP(K42,[2]Sheet1!$D:$G,4,FALSE) -> G3RYAE00211 | N42: =VLOOKUP(K42,[2]Sheet1!$D:$H,5,FALSE) -> LZYTCTDF7E1025584 | O42: =VLOOKUP(K42,[2]Sheet1!$D:$I,6,FALSE) -> 2014.9.5
A43: 40 | B43: 宇通牌ZK6827BEVG15M | C43: 蒙K01072D | D43: 公交客运 | E43: MLY502666A | F43: LZYTDGDW7R1034957 | G43: 2024.11.19 | H43: 34 | I43: 8245×2530×3475 | J43: 150010760647 | K43: 蒙K87377 | L43: =VLOOKUP(K43,[1]汇总!$G:$H,2) -> 公交客运 | M43: =VLOOKUP(K43,[2]Sheet1!$D:$G,4,FALSE) -> G66YAD00062 | N43: =VLOOKUP(K43,[2]Sheet1!$D:$H,5,FALSE) -> LZYTBTDF7D1014618 | O43: =VLOOKUP(K43,[2]Sheet1!$D:$I,6,FALSE) -> 2013.5.30
A44: 41 | B44: 宇通牌ZK6827BEVG15M | C44: 蒙K08125D | D44: 公交客运 | E44: MLY502650A | F44: LZYTDGDW9R1034958 | G44: 2024.11.19 | H44: 34 | I44: 8245×2530×3475 | J44: 150010760953 | K44: 蒙K90160 | L44: =VLOOKUP(K44,[1]汇总!$G:$H,2) -> 公交客运 | M44: =VLOOKUP(K44,[2]Sheet1!$D:$G,4,FALSE) -> G3RYAE00210 | N44: =VLOOKUP(K44,[2]Sheet1!$D:$H,5,FALSE) -> LZYTCTDFXE1025594 | O44: =VLOOKUP(K44,[2]Sheet1!$D:$I,6,FALSE) -> 2014.9.5
A45: 42 | B45: 宇通牌ZK6116BEVG15 | C45: 蒙K19573D | D45: 公交客运 | E45: MLU500409Q | F45: LZYTBGEW9R1034866 | G45: 2024.11.20 | H45: 43 | I45: 10990×2550×3475 | J45: 150010760972 | K45: 蒙K87697 | L45: =VLOOKUP(K45,[1]汇总!$G:$H,2) -> 公交客运 | M45: =VLOOKUP(K45,[2]Sheet1!$D:$G,4,FALSE) -> G2JMAD00001 | N45: =VLOOKUP(K45,[2]Sheet1!$D:$H,5,FALSE) -> LVCB3KCB0DM005513 | O45: =VLOOKUP(K45,[2]Sheet1!$D:$I,6,FALSE) -> 2013.8.9
A46: 43 | B46: 宇通牌ZK6116BEVG15 | C46: 蒙K19470D | D46: 公交客运 | E46: MLU500407Q | F46: LZYTBGEW4R1034869 | G46: 2024.11.20 | H46: 43 | I46: 10990×2550×3475 | J46: 150010760967 | K46: 蒙K87817 | L46: =VLOOKUP(K46,[1]汇总!$G:$H,2) -> 公交客运 | M46: =VLOOKUP(K46,[2]Sheet1!$D:$G,4,FALSE) -> G2JMAD00005 | N46: =VLOOKUP(K46,[2]Sheet1!$D:$H,5,FALSE) -> LVCB3KCB7DM005511 | O46: =VLOOKUP(K46,[2]Sheet1!$D:$I,6,FALSE) -> 2013.8.9
A47: 44 | B47: 宇通牌ZK6116BEVG15 | C47: 蒙K18350D | D47: 公交客运 | E47: MLU500414Q | F47: LZYTBGEW0R1034870 | G47: 2024.11.20 | H47: 43 | I47: 10990×2550×3475 | J47: 150010755269 | K47: 蒙K87827 | L47: =VLOOKUP(K47,[1]汇总!$G:$H,2) -> 公交客运 | M47: =VLOOKUP(K47,[2]Sheet1!$D:$G,4,FALSE) -> G2JMAD00003 | N47: =VLOOKUP(K47,[2]Sheet1!$D:$H,5,FALSE) -> LVCB3KCB2DM005514 | O47: =VLOOKUP(K47,[2]Sheet1!$D:$I,6,FALSE) -> 2013.8.9
A48: 45 | B48: 宇通牌ZK6116BEVG15 | C48: 蒙K18442D | D48: 公交客运 | E48: MLU500383Q | F48: LZYTBGEW2R1034871 | G48: 2024.11.20 | H48: 43 | I48: 10990×2550×3475 | J48: 150010764164 | K48: 蒙K87912 | L48: =VLOOKUP(K48,[1]汇总!$G:$H,2) -> 公交客运 | M48: =VLOOKUP(K48,[2]Sheet1!$D:$G,4,FALSE) -> G2JMAD00002 | N48: =VLOOKUP(K48,[2]Sheet1!$D:$H,5,FALSE) -> LVCB3KCB8DM005517 | O48: =VLOOKUP(K48,[2]Sheet1!$D:$I,6,FALSE) -> 2013.8.9
... A63: 60 | B63: 宇通牌ZK6116BEVG15 | C63: 蒙K18027D | D63: 公交客运 | E63: MLU500342Q | F63: LZYTBGEW4R1034886 | G63: 2024.11.20 | H63: 43 | I63: 10990×2550×3475 | J63: 150010755272 | K63: 蒙K87833 | L63: =VLOOKUP(K63,[1]汇总!$G:$H,2) -> 公交客运 | M63: =VLOOKUP(K63,[2]Sheet1!$D:$G,4,FALSE) -> G69DBD00006 | N63: =VLOOKUP(K63,[2]Sheet1!$D:$H,5,FALSE) -> LDD03D015D0000869 | O63: =VLOOKUP(K63,[2]Sheet1!$D:$I,6,FALSE) -> 2013.7.24

Sheet Sheet2

Sheet Sheet3
